BEGIN:VCALENDAR
VERSION:2.0
PRODID:-//br.investing.com//compt
CALSCALE:GREGORIAN
METHOD:PUBLISH
BEGIN:VEVENT
CLASS:PUBLIC
UID:webinar-/education/addToCalendar@br.Investing.com
SUMMARY:br.investing.com - 

DESCRIPTION:

DTSTART:
DTEND:
URL:https://br.investing.com

LOCATION:https://br.investing.com

BEGIN:VALARM
ACTION:DISPLAY
TRIGGER;RELATED=END:PT-5M
DESCRIPTION:Reminder
END:VALARM
END:VEVENT
END:VCALENDAR
